BEGIN:VCALENDAR
VERSION:2.0
PRODID:-//Αΐμονας Μυλοποτάμου - ECPv6.15.17//NONSGML v1.0//EN
CALSCALE:GREGORIAN
METHOD:PUBLISH
X-ORIGINAL-URL:https://aimonas.gr
X-WR-CALDESC:Events for Αΐμονας Μυλοποτάμου
REFRESH-INTERVAL;VALUE=DURATION:PT1H
X-Robots-Tag:noindex
X-PUBLISHED-TTL:PT1H
BEGIN:VTIMEZONE
TZID:UTC
BEGIN:STANDARD
TZOFFSETFROM:+0000
TZOFFSETTO:+0000
TZNAME:UTC
DTSTART:20190101T000000
END:STANDARD
END:VTIMEZONE
BEGIN:VEVENT
DTSTART;VALUE=DATE:20201024
DTEND;VALUE=DATE:20210102
DTSTAMP:20260426T031109
CREATED:20201023T004344Z
LAST-MODIFIED:20201024T063241Z
UID:13417-1603497600-1609545599@aimonas.gr
SUMMARY:Αναβολή εκδηλώσεων λόγω Κορωνοϊού
DESCRIPTION:Λόγω Κορωνοϊού αναβάλονται όλες οι εκδηλώσεις
URL:https://aimonas.gr/event/%ce%b1%ce%bd%ce%b1%ce%b2%ce%bf%ce%bb%ce%ae-%ce%b5%ce%ba%ce%b4%ce%b7%ce%bb%cf%8e%cf%83%ce%b5%cf%89%ce%bd-%ce%bb%cf%8c%ce%b3%cf%89-%ce%ba%ce%bf%cf%81%cf%89%ce%bd%ce%bf%cf%8a%ce%bf%cf%8d/
LOCATION:Αΐμονας\, Aimonas\, Greece
ATTACH;FMTTYPE=image/jpeg:https://aimonas.gr/wp/wp-content/uploads/2020/04/virus-4937553_640.jpg
ORGANIZER;CN="%CE%A0%CE%BF%CE%BB%CE%B9%CF%84%CE%B9%CF%83%CF%84%CE%B9%CE%BA%CF%8C%CF%82 %CE%A3%CF%8D%CE%BB%CE%BB%CE%BF%CE%B3%CE%BF%CF%82 %CE%91%CE%90%CE%BC%CE%BF%CE%BD%CE%B1 '%CE%9F %CE%A0%CE%9B%CE%91%CE%A4%CE%A9%CE%9D'":MAILTO:info@aimonas.gr
END:VEVENT
END:VCALENDAR