BEGIN:VCALENDAR
VERSION:2.0
PRODID:-//Αΐμονας Μυλοποτάμου - ECPv6.15.17//NONSGML v1.0//EN
CALSCALE:GREGORIAN
METHOD:PUBLISH
X-WR-CALNAME:Αΐμονας Μυλοποτάμου
X-ORIGINAL-URL:https://aimonas.gr
X-WR-CALDESC:Events for Αΐμονας Μυλοποτάμου
REFRESH-INTERVAL;VALUE=DURATION:PT1H
X-Robots-Tag:noindex
X-PUBLISHED-TTL:PT1H
BEGIN:VTIMEZONE
TZID:UTC
BEGIN:STANDARD
TZOFFSETFROM:+0000
TZOFFSETTO:+0000
TZNAME:UTC
DTSTART:20200101T000000
END:STANDARD
END:VTIMEZONE
BEGIN:VEVENT
DTSTART;TZID=UTC:20211107T100000
DTEND;TZID=UTC:20211107T110000
DTSTAMP:20260425T123040
CREATED:20211104T112539Z
LAST-MODIFIED:20211104T122909Z
UID:13984-1636279200-1636282800@aimonas.gr
SUMMARY:Μάθημα παραδοσιακών πνευστών
DESCRIPTION:Την Κυριακή 7-11-21 στις 10πμ θα γίνει το πρώτο μάθημα παραδοσιακών πνευστών στον Αιμονα.\nΥπάρχουν ακόμα θέσεις όποια παιδιά- ενήλικες ενδιαφέρονται να δηλώσουν συμμετοχή.\nΔωρεάν είσοδος \nΠληροφορίες Πατήρ Μιχαήλ Κλωνάρης 6981 875 540.
URL:https://aimonas.gr/event/%ce%bc%ce%ac%ce%b8%ce%b7%ce%bc%ce%b1-%cf%80%ce%b1%cf%81%ce%b1%ce%b4%ce%bf%cf%83%ce%b9%ce%b1%ce%ba%cf%8e%ce%bd-%cf%80%ce%bd%ce%b5%cf%85%cf%83%cf%84%cf%8e%ce%bd/
LOCATION:Αΐμονας\, Aimonas\, Greece
ATTACH;FMTTYPE=image/jpeg:https://aimonas.gr/wp/wp-content/uploads/2021/11/askompantoura.jpg
END:VEVENT
END:VCALENDAR