BEGIN:VCALENDAR
VERSION:2.0
PRODID:-//Αΐμονας Μυλοποτάμου - ECPv6.15.17//NONSGML v1.0//EN
CALSCALE:GREGORIAN
METHOD:PUBLISH
X-WR-CALNAME:Αΐμονας Μυλοποτάμου
X-ORIGINAL-URL:https://aimonas.gr
X-WR-CALDESC:Events for Αΐμονας Μυλοποτάμου
REFRESH-INTERVAL;VALUE=DURATION:PT1H
X-Robots-Tag:noindex
X-PUBLISHED-TTL:PT1H
BEGIN:VTIMEZONE
TZID:UTC
BEGIN:STANDARD
TZOFFSETFROM:+0000
TZOFFSETTO:+0000
TZNAME:UTC
DTSTART:20230101T000000
END:STANDARD
END:VTIMEZONE
BEGIN:VEVENT
DTSTART;TZID=UTC:20240726T200000
DTEND;TZID=UTC:20240727T070000
DTSTAMP:20260421T082311
CREATED:20240101T024200Z
LAST-MODIFIED:20240101T024200Z
UID:14655-1722024000-1722063600@aimonas.gr
SUMMARY:Χωροεσπερίδα στην πλατεία με το Νεκτάριο Σαμόλη
DESCRIPTION:Χωροεσπερίδα στην πλατεία με το Νεκτάριο Σαμόλη
URL:https://aimonas.gr/event/%cf%87%cf%89%cf%81%ce%bf%ce%b5%cf%83%cf%80%ce%b5%cf%81%ce%af%ce%b4%ce%b1-%cf%83%cf%84%ce%b7%ce%bd-%cf%80%ce%bb%ce%b1%cf%84%ce%b5%ce%af%ce%b1-%ce%bc%ce%b5-%cf%84%ce%bf-%ce%bd%ce%b5%ce%ba%cf%84%ce%ac/
ATTACH;FMTTYPE=image/jpeg:https://aimonas.gr/wp/wp-content/uploads/2018/04/nek_samolis.jpg
ORGANIZER;CN="%CE%A0%CE%BF%CE%BB%CE%B9%CF%84%CE%B9%CF%83%CF%84%CE%B9%CE%BA%CF%8C%CF%82 %CE%A3%CF%8D%CE%BB%CE%BB%CE%BF%CE%B3%CE%BF%CF%82 %CE%91%CE%90%CE%BC%CE%BF%CE%BD%CE%B1 '%CE%9F %CE%A0%CE%9B%CE%91%CE%A4%CE%A9%CE%9D'":MAILTO:info@aimonas.gr
END:VEVENT
BEGIN:VEVENT
DTSTART;TZID=UTC:20240727T070000
DTEND;TZID=UTC:20240727T110000
DTSTAMP:20260421T082311
CREATED:20240101T024343Z
LAST-MODIFIED:20240101T024343Z
UID:14658-1722063600-1722078000@aimonas.gr
SUMMARY:Αγίου Παντελεήμονα
DESCRIPTION:Αγίου Παντελεήμονα
URL:https://aimonas.gr/event/%ce%b1%ce%b3%ce%af%ce%bf%cf%85-%cf%80%ce%b1%ce%bd%cf%84%ce%b5%ce%bb%ce%b5%ce%ae%ce%bc%ce%bf%ce%bd%ce%b1/
LOCATION:Αΐμονας\, Aimonas\, Greece
ATTACH;FMTTYPE=image/jpeg:https://aimonas.gr/wp/wp-content/uploads/2020/08/01.jpg
END:VEVENT
END:VCALENDAR