BEGIN:VCALENDAR
VERSION:2.0
PRODID:-//Αΐμονας Μυλοποτάμου - ECPv6.15.17//NONSGML v1.0//EN
CALSCALE:GREGORIAN
METHOD:PUBLISH
X-WR-CALNAME:Αΐμονας Μυλοποτάμου
X-ORIGINAL-URL:https://aimonas.gr
X-WR-CALDESC:Events for Αΐμονας Μυλοποτάμου
REFRESH-INTERVAL;VALUE=DURATION:PT1H
X-Robots-Tag:noindex
X-PUBLISHED-TTL:PT1H
BEGIN:VTIMEZONE
TZID:UTC
BEGIN:STANDARD
TZOFFSETFROM:+0000
TZOFFSETTO:+0000
TZNAME:UTC
DTSTART:20250101T000000
END:STANDARD
END:VTIMEZONE
BEGIN:VEVENT
DTSTART;TZID=UTC:20260712T080000
DTEND;TZID=UTC:20260712T210000
DTSTAMP:20260424T153631
CREATED:20260211T110819Z
LAST-MODIFIED:20260211T110841Z
UID:15049-1783843200-1783890000@aimonas.gr
SUMMARY:Διαγωνισμός μαγειρικής
DESCRIPTION:Αναμένονται λεπτομέριες
URL:https://aimonas.gr/event/%ce%b4%ce%b9%ce%b1%ce%b3%cf%89%ce%bd%ce%b9%cf%83%ce%bc%cf%8c%cf%82-%ce%bc%ce%b1%ce%b3%ce%b5%ce%b9%cf%81%ce%b9%ce%ba%ce%ae%cf%82-2/
ATTACH;FMTTYPE=image/jpeg:https://aimonas.gr/wp/wp-content/uploads/2018/02/13_sifakh_linariths.jpg
END:VEVENT
BEGIN:VEVENT
DTSTART;TZID=UTC:20260726T200000
DTEND;TZID=UTC:20260727T090000
DTSTAMP:20260424T153631
CREATED:20260211T111345Z
LAST-MODIFIED:20260211T111738Z
UID:15053-1785096000-1785142800@aimonas.gr
SUMMARY:Χοροεσπερίδα με τον Ανδρέα Συγλέτο
DESCRIPTION:
URL:https://aimonas.gr/event/%cf%87%ce%bf%cf%81%ce%bf%ce%b5%cf%83%cf%80%ce%b5%cf%81%ce%af%ce%b4%ce%b1-%ce%bc%ce%b5-%cf%84%ce%bf%ce%bd-%ce%b1%ce%bd%ce%b4%cf%81%ce%ad%ce%b1-%cf%83%cf%85%ce%b3%ce%bb%ce%ad%cf%84%ce%bf/
ATTACH;FMTTYPE=image/jpeg:https://aimonas.gr/wp/wp-content/uploads/2023/08/02-1.jpg
END:VEVENT
END:VCALENDAR